BEGIN:VCALENDAR
VERSION:2.0
PRODID:-//Allee Verlag - ECPv6.15.20//NONSGML v1.0//EN
CALSCALE:GREGORIAN
METHOD:PUBLISH
X-WR-CALNAME:Allee Verlag
X-ORIGINAL-URL:https://allee-verlag.de
X-WR-CALDESC:Veranstaltungen für Allee Verlag
REFRESH-INTERVAL;VALUE=DURATION:PT1H
X-Robots-Tag:noindex
X-PUBLISHED-TTL:PT1H
BEGIN:VTIMEZONE
TZID:Europe/Berlin
BEGIN:DAYLIGHT
TZOFFSETFROM:+0100
TZOFFSETTO:+0200
TZNAME:CEST
DTSTART:20250330T010000
END:DAYLIGHT
BEGIN:STANDARD
TZOFFSETFROM:+0200
TZOFFSETTO:+0100
TZNAME:CET
DTSTART:20251026T010000
END:STANDARD
BEGIN:DAYLIGHT
TZOFFSETFROM:+0100
TZOFFSETTO:+0200
TZNAME:CEST
DTSTART:20260329T010000
END:DAYLIGHT
BEGIN:STANDARD
TZOFFSETFROM:+0200
TZOFFSETTO:+0100
TZNAME:CET
DTSTART:20261025T010000
END:STANDARD
BEGIN:DAYLIGHT
TZOFFSETFROM:+0100
TZOFFSETTO:+0200
TZNAME:CEST
DTSTART:20270328T010000
END:DAYLIGHT
BEGIN:STANDARD
TZOFFSETFROM:+0200
TZOFFSETTO:+0100
TZNAME:CET
DTSTART:20271031T010000
END:STANDARD
END:VTIMEZONE
BEGIN:VEVENT
DTSTART;TZID=Europe/Berlin:20260428T190000
DTEND;TZID=Europe/Berlin:20260428T210000
DTSTAMP:20260420T101803
CREATED:20260329T193943Z
LAST-MODIFIED:20260329T195142Z
UID:889-1777402800-1777410000@allee-verlag.de
SUMMARY:Lesung Lukáš Cabala
DESCRIPTION:Einzelheiten folgen
URL:https://allee-verlag.de/veranstaltung/lesung-lukas-cabala/
LOCATION:Prag\, Prag\, Czech Republic
END:VEVENT
BEGIN:VEVENT
DTSTART;TZID=Europe/Berlin:20260518T190000
DTEND;TZID=Europe/Berlin:20260518T210000
DTSTAMP:20260420T101803
CREATED:20260329T194134Z
LAST-MODIFIED:20260329T195115Z
UID:893-1779130800-1779138000@allee-verlag.de
SUMMARY:Lesung Lukáš Cabala
DESCRIPTION:Einzelheiten folgen
URL:https://allee-verlag.de/veranstaltung/lesung-lukas-cabala-2/
LOCATION:Frankfurt am Main\, Frankfurt am Main\, Germany
END:VEVENT
BEGIN:VEVENT
DTSTART;TZID=Europe/Berlin:20260522T080000
DTEND;TZID=Europe/Berlin:20260522T170000
DTSTAMP:20260420T101803
CREATED:20260329T194337Z
LAST-MODIFIED:20260329T195047Z
UID:897-1779436800-1779469200@allee-verlag.de
SUMMARY:Lesung Lukáš Cabala
DESCRIPTION:Einzelheiten folgen
URL:https://allee-verlag.de/veranstaltung/lesung-lukas-cabala-3/
LOCATION:Košice\, Košice\, Slovakia (Slovak Republic)
END:VEVENT
BEGIN:VEVENT
DTSTART;TZID=Europe/Berlin:20260526T190000
DTEND;TZID=Europe/Berlin:20260526T210000
DTSTAMP:20260420T101803
CREATED:20260329T194508Z
LAST-MODIFIED:20260329T195013Z
UID:901-1779822000-1779829200@allee-verlag.de
SUMMARY:Lesung Lukáš Cabala
DESCRIPTION:Einzelheiten folgen
URL:https://allee-verlag.de/veranstaltung/lesung-lukas-cabala-4/
LOCATION:Wien\, Wien\, Austria
END:VEVENT
BEGIN:VEVENT
DTSTART;TZID=Europe/Berlin:20260703T180000
DTEND;TZID=Europe/Berlin:20260703T220000
DTSTAMP:20260420T101803
CREATED:20260329T200254Z
LAST-MODIFIED:20260329T200255Z
UID:909-1783101600-1783116000@allee-verlag.de
SUMMARY:The Month of Author’s Reading Trenčín
DESCRIPTION:Abendveranstaltung inkl. Lesung Lukáš Cabala
URL:https://allee-verlag.de/veranstaltung/the-month-of-authors-reading-trencin/
LOCATION:KKC Hviezda\, Kniežaťa Pribinu 197/3\, Trenčín\, 911 01\, Slovakia (Slovak Republic)
END:VEVENT
BEGIN:VEVENT
DTSTART;TZID=Europe/Berlin:20261007T100000
DTEND;TZID=Europe/Berlin:20261011T180000
DTSTAMP:20260420T101803
CREATED:20260301T222832Z
LAST-MODIFIED:20260301T222833Z
UID:827-1791367200-1791741600@allee-verlag.de
SUMMARY:Frankfurter Buchmesse
DESCRIPTION:Ehrengast 2026: Tschechische Republik („Czechia – a country on the coast“) \n\n\n\nCzechia 2026 \n\n\n\n \n\n\n\nFachpublikum (an den ersten Tagen) und Privatpublikum (am Wochenende)
URL:https://allee-verlag.de/veranstaltung/frankfurter-buchmesse-2/
LOCATION:Messe Frankfurt\, Ludwig-Erhard-Anlage 1\, Frankfurt am Main\, 60327
END:VEVENT
END:VCALENDAR